BEGIN:VCALENDAR
VERSION:2.0
PRODID:-//eventon.com NONSGML v1.0//EN
BEGIN:VEVENT
UID:69ed88ff656af
DTSTAMP:20260426T053943
DTSTART:20170522T220000Z
DTEND:20170523T215900Z
LOCATION:
SUMMARY:Grundkurs AutoCAD Mai 2017
DESCRIPTION: Teilnehmer: Bauzeicher\,  Bauplaner\,  Ingenieure und Architekten Voraussetzungen: Interesse an AutoCAD Dauer: 1 Tag Kosten: CHF 550.-/Teilnehmer exkl. MWSt. Bei weniger als 3 Teilnehmern behalten wir uns das Recht vor\,  den Kurs zu verschieben. (Kosten Individualschulungen auf Anfrage.) Inhalt: Einführung in die Verwendung von AutoCAD. Eingabe von einfachen Grundgrafiken\,  Konstruieren\,  Blöcke[..]
END:VEVENT
END:VCALENDAR