BEGIN:VCALENDAR
VERSION:2.0
PRODID:-//eventon.com NONSGML v1.0//EN
BEGIN:VEVENT
UID:69ed5caadf222
DTSTAMP:20260426T023034
DTSTART:20170918T220000Z
DTEND:20170920T215900Z
LOCATION:
SUMMARY:Grundkurs AutoCAD-Architecture September 2017
DESCRIPTION: Teilnehmer: Bauzeichner\,  Bauplaner\,  Architekten und Ingenieure Voraussetzungen: Grundkurs AutoCAD Dauer: 2 Tage Kosten: CHF 550.-/Tag und Teilnehmer exkl. MWSt. Bei weniger als 3 Teilnehmern behalten wir uns das Recht vor\,  den Kurs zu verschieben. (Kosten Individualschulungen auf Anfrage.) 1. Tag: "Arbeiten mit Standard-Elementen" Projektnavigator Werkzeugpaletten Gebäude mit Standard-Elementen erstellen (Wände\, [..]
END:VEVENT
END:VCALENDAR