BEGIN:VCALENDAR
VERSION:2.0
PRODID:-//eventon.com NONSGML v1.0//EN
BEGIN:VEVENT
UID:69ed069d21216
DTSTAMP:20260425T202325
DTSTART:20170829T073000Z
DTEND:20170829T141500Z
LOCATION:Hotel Olten Bahnhofstrasse 5\,  4601 Olten
SUMMARY:BaCAD Seminar August 2017
DESCRIPTION: Ein Meilenstein ist erreicht! Die bedeutendste Änderung in BaCAD Desktop seit 2010 ist abgeschlossen. Das Bewehrungsmodul wurde komplett neu aufgebaut und auf den neusten Stand der Technik gebracht. BaCAD Desktop® 2017 ist intuitiver\,  übersichtlicher und einfacher zu bedienen. Mit BaCAD Desktop® 2017 und AutoCAD® 2018 können Sie Ihre Projekte noch[..]
END:VEVENT
END:VCALENDAR