BEGIN:VCALENDAR
VERSION:2.0
PRODID:-//eventon.com NONSGML v1.0//EN
BEGIN:VEVENT
UID:69ed2ef8878fc
DTSTAMP:20260425T231536
DTSTART:20170912T220000Z
DTEND:20170915T215900Z
LOCATION:Walder + Trüeb Engineering AG Obere Zollgasse 73\,  3072 Ostermundigen
SUMMARY:Grundkurs BaCAD Desktop September 2017
DESCRIPTION: Teilnehmer: Bauzeichner\,  Bauplaner und Bauingenieure Voraussetzungen: Grundkurs AutoCAD Dauer: 2 Tage Kosten: CHF 550.-/Tag und Teilnehmer exkl. MWSt. Bei weniger als 3 Teilnehmern behalten wir uns das Recht vor\,  den Kurs zu verschieben. (Kosten Individualschulungen auf Anfrage.) 1. Tag: "Schalungswerkzeuge" Auftrags-/Projektverwaltung Symbolverwaltung Ansichtsfenster und Planzusammenstellung Bemassungen und Höhenkoten Pläne erstellen[..]
END:VEVENT
END:VCALENDAR