BEGIN:VCALENDAR
VERSION:2.0
PRODID:-//eventon.com NONSGML v1.0//EN
BEGIN:VEVENT
UID:69ed3310de923
DTSTAMP:20260425T233304
DTSTART:20171204T220000Z
DTEND:20171206T215900Z
LOCATION:
SUMMARY:Grundkurs BaCAD Desktop Dezember 2017
DESCRIPTION: Teilnehmer: Bauzeichner\,  Bauplaner und Bauingenieure Voraussetzungen: Grundkurs AutoCAD Dauer: 2 Tage Kosten: CHF 550.-/Tag und Teilnehmer exkl. MWSt. Bei weniger als 3 Teilnehmern behalten wir uns das Recht vor\,  den Kurs zu verschieben. (Kosten Individualschulungen auf Anfrage.) 1. Tag: "Schalungswerkzeuge" Auftrags-/Projektverwaltung Symbolverwaltung Ansichtsfenster und Planzusammenstellung Bemassungen und Höhenkoten Pläne erstellen[..]
END:VEVENT
END:VCALENDAR