BEGIN:VCALENDAR
VERSION:2.0
PRODID:-//eventon.com NONSGML v1.0//EN
BEGIN:VEVENT
UID:69ed0b064fd06
DTSTAMP:20260425T204214
DTSTART:20171112T220000Z
DTEND:20171114T215900Z
LOCATION:
SUMMARY:Grundkurs Revit November 2017
DESCRIPTION: Teilnehmer: Bauzeicher\,  Bauplaner\,  Baumanager\,  Ingenieure und Architekten Voraussetzungen: Interesse an Revit & Building Information Modeling (BIM) Dauer: 2 Tage Kosten: CHF 550.-/Tag und Teilnehmer exkl. MWSt. Bei weniger als 3 Teilnehmern behalten wir uns das Recht vor\,  den Kurs zu verschieben. (Kosten Individualschulungen auf Anfrage.) Inhalt: Einführung\,  Schnelles Arbeiten mit[..]
END:VEVENT
END:VCALENDAR