BEGIN:VCALENDAR
VERSION:2.0
PRODID:-//eventon.com NONSGML v1.0//EN
BEGIN:VEVENT
UID:69ecf5b2dd3ff
DTSTAMP:20260425T191114
DTSTART:20170829T220000Z
DTEND:20170830T215900Z
LOCATION:
SUMMARY:Grundkurs AutoCAD August 2017
DESCRIPTION: Teilnehmer: Bauzeicher\,  Bauplaner\,  Ingenieure und Architekten Voraussetzungen: Interesse an AutoCAD Dauer: 1 Tag Kosten: CHF 550.-/Teilnehmer exkl. MWSt. Bei weniger als 3 Teilnehmern behalten wir uns das Recht vor\,  den Kurs zu verschieben. (Kosten Individualschulungen auf Anfrage.) Inhalt: Einführung in die Verwendung von AutoCAD. Eingabe von einfachen Grundgrafiken\,  Konstruieren\,  Blöcke[..]
END:VEVENT
END:VCALENDAR