BEGIN:VCALENDAR
VERSION:2.0
PRODID:-//eventon.com NONSGML v1.0//EN
BEGIN:VEVENT
UID:69ecdfc142e8e
DTSTAMP:20260425T173737
DTSTART:20170628T070000Z
DTEND:20170628T143000Z
LOCATION:Eurohaus Obere Zollgasse 73\,  3072 Ostermundigen
SUMMARY:Architektur Seminar 2017
DESCRIPTION: Die 2018er Versionen sind da. Auch dieses Jahr wollen wir ihnen wieder die Neuerungen aber auch Praxiserfahrungen mitteilen. Dazu haben wir einen spannenden Tag zusammengestellt. Wir entführen sie in Virtuelle Realitäten und zeigen auf wie in der modernen Welt Gebäude aufgenommen werden und was die Tücken dabei sind\,  zudem das programmieren[..]
END:VEVENT
END:VCALENDAR