BEGIN:VCALENDAR
VERSION:2.0
PRODID:-//eventon.com NONSGML v1.0//EN
BEGIN:VEVENT
UID:69ecf5b43c266
DTSTAMP:20260425T191116
DTSTART:20171005T070000Z
DTEND:20171005T143000Z
LOCATION:Walder + Trüeb Engineering AG Obere Zollgasse 73\,  3072 Ostermundigen
SUMMARY:Familienschulung Revit Oktober 2017
DESCRIPTION: Teilnehmer: Bauzeicher\,  Bauplaner\,  Baumanager\,  Ingenieure und Architekten Voraussetzungen: Grundkurs Revit oder Erfahrung in Revit Dauer: 1 Tage Kosten: CHF 550.-/Tag und Teilnehmer exkl. MWSt. Inhalt: In Revit dreht sich alles um Familien\,  darum ist es ein muss für jeden der mit Revit arbeitet sich mit den Familien auseinander zusetzen. Der[..]
END:VEVENT
END:VCALENDAR