BEGIN:VCALENDAR
VERSION:2.0
PRODID:-//eventon.com NONSGML v1.0//EN
BEGIN:VEVENT
UID:69ed3327eea3f
DTSTAMP:20260425T233327
DTSTART:20180306T070000Z
DTEND:20180307T143000Z
LOCATION:Walder + Trüeb Engineering AG Obere Zollgasse 73\,  3072 Ostermundigen
SUMMARY:Grundkurs AutoCAD-Architecture März 2018
DESCRIPTION: Teilnehmer: Bauzeichner\,  Bauplaner\,  Architekten und Ingenieure Voraussetzungen: Grundkurs AutoCAD Dauer: 2 Tage Kosten: CHF 550.-/Tag und Teilnehmer exkl. MWSt. Bei weniger als 3 Teilnehmern behalten wir uns das Recht vor\,  den Kurs zu verschieben. (Kosten Individualschulungen auf Anfrage.) 1. Tag: "Arbeiten mit Standard-Elementen" Projektnavigator Werkzeugpaletten Gebäude mit Standard-Elementen erstellen (Wände\, [..]
END:VEVENT
END:VCALENDAR