BEGIN:VCALENDAR
VERSION:2.0
PRODID:-//eventon.com NONSGML v1.0//EN
BEGIN:VEVENT
UID:69ed81df54672
DTSTAMP:20260426T050919
DTSTART:20180823T070000Z
DTEND:20180823T143000Z
LOCATION:Walder + Trüeb Engineering AG Obere Zollgasse 73\,  3072 Ostermundigen
SUMMARY:Grundkurs AutoCAD August 2018
DESCRIPTION: Teilnehmer: Bauzeicher\,  Bauplaner\,  Ingenieure und Architekten Voraussetzungen: Interesse an AutoCAD Dauer: 1 Tag Kosten: CHF 550.-/Teilnehmer exkl. MWSt. Bei weniger als 3 Teilnehmern behalten wir uns das Recht vor\,  den Kurs zu verschieben. (Kosten Individualschulungen auf Anfrage.) Inhalt: Einführung in die Verwendung von AutoCAD. Eingabe von einfachen Grundgrafiken\,  Konstruieren\,  Blöcke[..]
END:VEVENT
END:VCALENDAR