BEGIN:VCALENDAR
VERSION:2.0
PRODID:-//eventon.com NONSGML v1.0//EN
BEGIN:VEVENT
UID:69ed784aec922
DTSTAMP:20260426T042826
DTSTART:20181127T070000Z
DTEND:20181128T143000Z
LOCATION:Walder + Trüeb Engineering AG Obere Zollgasse 73\,  3072 Ostermundigen
SUMMARY:Grundkurs BaCAD Desktop November 2018
DESCRIPTION: Teilnehmer: Bauzeichner\,  Bauplaner und Bauingenieure Voraussetzungen: Grundkurs AutoCAD Dauer: 2 Tage Kosten: CHF 550.-/Tag und Teilnehmer exkl. MWSt. Bei weniger als 3 Teilnehmern behalten wir uns das Recht vor\,  den Kurs zu verschieben. (Kosten Individualschulungen auf Anfrage.) 1. Tag: "Schalungswerkzeuge" Auftrags-/Projektverwaltung Symbolverwaltung Ansichtsfenster und Planzusammenstellung Bemassungen und Höhenkoten Pläne erstellen[..]
END:VEVENT
END:VCALENDAR