BEGIN:VCALENDAR
VERSION:2.0
PRODID:-//eventon.com NONSGML v1.0//EN
BEGIN:VEVENT
UID:69ed68e2d0e67
DTSTAMP:20260426T032242
DTSTART:20180828T073000Z
DTEND:20180828T140000Z
LOCATION:Hotel Olten Bahnhofstrasse 5\,  4601 Olten
SUMMARY:BaCAD Seminar August 2018
DESCRIPTION: Die Einführung des brandneuen Bewehrungsmoduls von BaCAD Desktop vor einem Jahr war ein voller Erfolg. Wir haben durchwegs positive Rückmeldungen\,  sowie einige Optimierungsvorschläge erhalten und diese selbstverständlich an die Entwickler von BaCAD weitergeleitet. Die Bewehrungs-Werkzeuge konnten so zur neuen Version BaCAD Desktop 2018 weiterentwickelt werden. Damit Sie die Möglichkeit haben\, [..]
END:VEVENT
END:VCALENDAR