BEGIN:VCALENDAR
VERSION:2.0
PRODID:-//eventon.com NONSGML v1.0//EN
BEGIN:VEVENT
UID:69ed91aa3729b
DTSTAMP:20260426T061642
DTSTART:20180207T070000Z
DTEND:20180207T143000Z
LOCATION:Walder + Trüeb Engineering AG Obere Zollgasse 73\,  3072 Ostermundigen
SUMMARY:Adminkurs BaCAD Desktop Februar 2018
DESCRIPTION: Teilnehmer: Bauzeichner\,  Bauplaner und Bauingenieure Voraussetzungen: Ein besuchter BaCAD Grundkurs und Anwendererfahrung mit BaCAD Desktop. Dauer: 1 Tag Kosten: CHF 550.-/Tag und Teilnehmer exkl. MWSt. Bei weniger als 3 Teilnehmern behalten wir uns das Recht vor\,  den Kurs zu verschieben. (Kosten Individualschulungen auf Anfrage.) Ziel: Ziel dieses Kurses ist es in einem Tag den PowerUsern und CAD-Verantwortlichen[..]
END:VEVENT
END:VCALENDAR