BEGIN:VCALENDAR
VERSION:2.0
PRODID:-//eventon.com NONSGML v1.0//EN
BEGIN:VEVENT
UID:69ed9191ca6f6
DTSTAMP:20260426T061617
DTSTART:20180305T070000Z
DTEND:20180305T143000Z
LOCATION:Walder + Trüeb Engineering AG Obere Zollgasse 73\,  3072 Ostermundigen
SUMMARY:Schnupperkurs Revit 2018
DESCRIPTION: Teilnehmer: Bauzeicher\,  Bauplaner\,  Baumanager\,  Ingenieure und Architekten Voraussetzungen: Interesse an Revit & Building Information Modeling (BIM) Dauer: 1 Tag Kosten: CHF 300.-/Tag und Teilnehmer exkl. MWSt. Inhalt: Erste Einführung in die BIM-Planung mit Revit. Kennenlernen der wichtigsten Arbeitsabläufe und sammeln von praktischen Erfahrungen in ungezwungener Atmosphäre.
END:VEVENT
END:VCALENDAR