BEGIN:VCALENDAR
VERSION:2.0
PRODID:-//eventon.com NONSGML v1.0//EN
BEGIN:VEVENT
UID:69ed6d583c002
DTSTAMP:20260426T034144
DTSTART:20191111T070000Z
DTEND:20191114T143000Z
LOCATION:Walder + Trüeb Engineering AG Obere Zollgasse 73\,  3072 Ostermundigen
SUMMARY:Grundkurs Revit November 2019
DESCRIPTION: Teilnehmer: Bauzeicher\,  Bauplaner\,  Baumanager\,  Ingenieure und Architekten Voraussetzungen: Interesse an Revit & Building Information Modeling (BIM) Dauer: 2 Tage 11. + 14. November 2019 Kosten: CHF 550.-/Tag und Teilnehmer exkl. MWSt. Bei weniger als 3 Teilnehmern behalten wir uns das Recht vor\,  den Kurs zu verschieben. (Kosten Individualschulungen auf Anfrage.)[..]
END:VEVENT
END:VCALENDAR