BEGIN:VCALENDAR
VERSION:2.0
PRODID:-//eventon.com NONSGML v1.0//EN
BEGIN:VEVENT
UID:69ed452e46e94
DTSTAMP:20260426T005022
DTSTART:20190513T070000Z
DTEND:20190514T143000Z
LOCATION:Walder + Trüeb Engineering AG Obere Zollgasse 73\,  3072 Ostermundigen
SUMMARY:Grundkurs Revit Mai 2019
DESCRIPTION: Teilnehmer: Bauzeicher\,  Bauplaner\,  Baumanager\,  Ingenieure und Architekten Voraussetzungen: Interesse an Revit & Building Information Modeling (BIM) Dauer: 2 Tage Kosten: CHF 550.-/Tag und Teilnehmer exkl. MWSt. Bei weniger als 3 Teilnehmern behalten wir uns das Recht vor\,  den Kurs zu verschieben. (Kosten Individualschulungen auf Anfrage.) Inhalt: Einführung\,  Schnelles Arbeiten mit[..]
END:VEVENT
END:VCALENDAR