BEGIN:VCALENDAR
VERSION:2.0
PRODID:-//eventon.com NONSGML v1.0//EN
BEGIN:VEVENT
UID:69ed03f4a7561
DTSTAMP:20260425T201204
DTSTART:20190521T070000Z
DTEND:20190521T143000Z
LOCATION:Eurohaus Obere Zollgasse 73\,  3072 Ostermundigen
SUMMARY:CAD + BIM Seminar 2019
DESCRIPTION: 09:30 Begrüssung / News Autodesk 10:00 Neuerungen AutoCAD 2020 10:30 Pause 10:45 Neuerungen Revit 2020 12:00 Mittagessen 13:00 Civil 3D - Geländemodellierung und Revit 13:45 Dynamo 14:15 Relux - Lichtplanung für Revit 14:45 Pause 15:00 FormIt - Skizzieren für Revit und mehr 15:30 BIM 360 Docs + Design - Revit[..]
END:VEVENT
END:VCALENDAR