BEGIN:VCALENDAR
VERSION:2.0
PRODID:-//eventon.com NONSGML v1.0//EN
BEGIN:VEVENT
UID:69ecee13ec853
DTSTAMP:20260425T183843
DTSTART:20190828T073000Z
DTEND:20190828T140000Z
LOCATION:Hotel Olten Bahnhofstrasse 5\,  4601 Olten
SUMMARY:BaCAD Seminar 2019
DESCRIPTION: Programm Bacad-Seminar 09:30 Uhr                Eintreffen der Gäste                                                  Registrierung & Kaffee 09:45 Uhr                Begrüssung                                                              Autodesk® News 10:00 Uhr                AutoCAD® / AutoCAD[..]
END:VEVENT
END:VCALENDAR