BEGIN:VCALENDAR
VERSION:2.0
PRODID:-//eventon.com NONSGML v1.0//EN
BEGIN:VEVENT
UID:69ed2f130ca52
DTSTAMP:20260425T231603
DTSTART:20190416T070000Z
DTEND:20190417T143000Z
LOCATION:Walder + Trüeb Engineering AG Obere Zollgasse 73\,  3072 Ostermundigen
SUMMARY:Grundkurs Civil 3D April 2019
DESCRIPTION: Teilnehmer: Bauzeichner\,  Bauplaner\,  Architekten und Ingenieure Voraussetzungen: Grundkurs AutoCAD Dauer: 2 Tage Kosten: CHF 550.-/Tag und Teilnehmer exkl. MWSt. Bei weniger als 3 Teilnehmern behalten wir uns das Recht vor\,  den Kurs zu verschieben. (Kosten Individualschulungen auf Anfrage.) Inhalt Civil 3D Grundkurs: Civil Konfiguration\,  Vorlagen und Stile Digitales Geländemodell (DGM)[..]
END:VEVENT
END:VCALENDAR