BEGIN:VCALENDAR
VERSION:2.0
PRODID:-//eventon.com NONSGML v1.0//EN
BEGIN:VEVENT
UID:69ecf275ecec3
DTSTAMP:20260425T185725
DTSTART:20260811T070000Z
DTEND:20260811T143000Z
LOCATION:Walder + Trüeb Engineering AG Obere Zollgasse 73\,  3072 Ostermundigen
SUMMARY:Autodesk Construction Cloud 03-2026
DESCRIPTION: Steigern Sie die Effizienz und Zusammenarbeit in Ihren Bauprojekten mit unseren spezialisierten Schulungen zur Autodesk Construction Cloud (ACC). Die ACC ist die führende Plattform für das Management des gesamten Bauzyklus – von der Planung bis zur Ausführung. Unsere Kurse vermitteln Ihnen und Ihrem Team das notwendige Wissen\,  um die Module[..]
END:VEVENT
END:VCALENDAR