BEGIN:VCALENDAR
VERSION:2.0
PRODID:-//eventon.com NONSGML v1.0//EN
BEGIN:VEVENT
UID:69ecf23ab8eab
DTSTAMP:20260425T185626
DTSTART:20260609T070000Z
DTEND:20260611T143000Z
LOCATION:Walder + Trüeb Engineering AG Obere Zollgasse 73\,  3072 Ostermundigen
SUMMARY:Grundkurs Revit 03-2026
DESCRIPTION: Teilnehmer: Bauzeicher\,  Bauplaner\,  Baumanager\,  Ingenieure und Architekten Voraussetzungen: Interesse an Revit & Building Information Modeling (BIM) Dauer: 3 Tage Kosten: CHF 550.-/Tag und Teilnehmer exkl. MWSt. Bei weniger als 3 Teilnehmern behalten wir uns das Recht vor\,  den Kurs zu verschieben. (Kosten Individualschulungen auf Anfrage.) Inhalt: Einführung in die Grundeinstellungen\, [..]
END:VEVENT
END:VCALENDAR