BEGIN:VCALENDAR
VERSION:2.0
PRODID:-//eventon.com NONSGML v1.0//EN
BEGIN:VEVENT
UID:69ecf28b9cbc8
DTSTAMP:20260425T185747
DTSTART:20261201T070000Z
DTEND:20261202T143000Z
LOCATION:Walder + Trüeb Engineering AG Obere Zollgasse 73\,  3072 Ostermundigen
SUMMARY:Grundkurs AutoCAD Architecture 02-2026
DESCRIPTION: Teilnehmer: Bauzeichner\,  Bauplaner\,  Architekten und Ingenieure Voraussetzungen: Grundkurs AutoCAD Dauer: 2 Tage Kosten: CHF 550.-/Tag und Teilnehmer exkl. MWSt. Bei weniger als 3 Teilnehmern behalten wir uns das Recht vor\,  den Kurs zu verschieben. (Kosten Individualschulungen auf Anfrage.) 1. Tag: "Arbeiten mit Standard-Elementen" Projektnavigator Werkzeugpaletten Gebäude mit Standard-Elementen erstellen (Wände\, [..]
END:VEVENT
END:VCALENDAR