BEGIN:VCALENDAR
VERSION:2.0
PRODID:-//eventon.com NONSGML v1.0//EN
BEGIN:VEVENT
UID:69ed2f56eb740
DTSTAMP:20260425T231710
DTSTART:20260127T070000Z
DTEND:20260127T143000Z
LOCATION:Walder + Trüeb Engineering AG Obere Zollgasse 73\,  3072 Ostermundigen
SUMMARY:Grundkurs AutoCAD 01-2026
DESCRIPTION: Teilnehmer: Bauzeicher\,  Bauplaner\,  Ingenieure und Architekten Voraussetzungen: Interesse an AutoCAD Dauer: 1 Tag Kosten: CHF 550.-/Teilnehmer exkl. MWSt. Bei weniger als 3 Teilnehmern behalten wir uns das Recht vor\,  den Kurs zu verschieben. (Kosten Individualschulungen auf Anfrage.) Inhalt: Einführung in die Verwendung von AutoCAD. Eingabe von einfachen Grundgrafiken\,  Konstruieren\,  Blöcke[..]
END:VEVENT
END:VCALENDAR