BEGIN:VCALENDAR
VERSION:2.0
PRODID:-//eventon.com NONSGML v1.0//EN
BEGIN:VEVENT
UID:69ecf2403e5e5
DTSTAMP:20260425T185632
DTSTART:20260825T070000Z
DTEND:20260826T143000Z
LOCATION:Walder + Trüeb Engineering AG Obere Zollgasse 73\,  3072 Ostermundigen
SUMMARY:Grundkurs Civil 3D 04-2026
DESCRIPTION: Der Kurs findet am 6. und 8. Oktober statt. Teilnehmer: Bauzeichner\,  Bauplaner\,  Architekten und Ingenieure Voraussetzungen: Grundkurs AutoCAD Dauer: 2 Tage Kosten: CHF 550.-/Tag und Teilnehmer exkl. MWSt. Bei weniger als 3 Teilnehmern behalten wir uns das Recht vor\,  den Kurs zu verschieben. (Kosten Individualschulungen auf Anfrage.) Inhalt Civil 3D[..]
END:VEVENT
END:VCALENDAR